BEGIN:VCALENDAR
VERSION:2.0
PRODID:-//166.62.106.54//NONSGML kigkonsult.se iCalcreator 2.26.9//
CALSCALE:GREGORIAN
METHOD:PUBLISH
X-FROM-URL:https://christpca.net
X-WR-TIMEZONE:Atlantic/Azores
BEGIN:VTIMEZONE
TZID:Atlantic/Azores
X-LIC-LOCATION:Atlantic/Azores
BEGIN:STANDARD
DTSTART:20251026T010000
TZOFFSETFROM:+0000
TZOFFSETTO:-0100
RDATE:20261025T010000
TZNAME:-01
END:STANDARD
BEGIN:DAYLIGHT
DTSTART:20260329T000000
TZOFFSETFROM:-0100
TZOFFSETTO:+0000
RDATE:20270328T000000
TZNAME:+00
END:DAYLIGHT
END:VTIMEZONE
BEGIN:VEVENT
UID:ai1ec-15222@christpca.net
DTSTAMP:20260419T135133Z
CATEGORIES:
CONTACT:
DESCRIPTION:<p>Our Junior and Senior High youth group meets weekly from 6:3
 0-8 PM. Check bulletin or email admin for weekly location.</p>
DTSTART;TZID=Atlantic/Azores:20230419T183000
DTEND;TZID=Atlantic/Azores:20230419T200000
EXDATE;TZID=Atlantic/Azores:20210526T183000
LOCATION:Golf College - Main Meeting Room/Zoom optional
RRULE:FREQ=WEEKLY;BYDAY=WE;WKST=SU
SEQUENCE:0
SUMMARY:Youth Group
URL:https://christpca.net/event/youth-group-on-zoom/
X-COST-TYPE:free
END:VEVENT
BEGIN:VEVENT
UID:ai1ec-15231@christpca.net
DTSTAMP:20260419T135133Z
CATEGORIES:
CONTACT:
DESCRIPTION:<p>Join us at 10:30 for indoor worship at the Professional Golf
 ers Career College located at 26109 Ynez Road in Temecula. Nursery availab
 le.</p>\n<p>There is a small outdoor space for those who do not wish to be
  inside.</p>
DTSTART;TZID=Atlantic/Azores:20230423T110000
DTEND;TZID=Atlantic/Azores:20230423T120000
RRULE:FREQ=WEEKLY;BYDAY=SU;WKST=SU
SEQUENCE:0
SUMMARY:Sunday Worship Service
URL:https://christpca.net/event/worship-service-2/
X-COST-TYPE:free
END:VEVENT
BEGIN:VEVENT
UID:ai1ec-16176@christpca.net
DTSTAMP:20260419T135133Z
CATEGORIES:
CONTACT:
DESCRIPTION:<p>Join us for luncheon after church.</p>
DTSTART;TZID=Atlantic/Azores:20230423T120000
DTEND;TZID=Atlantic/Azores:20230423T143000
SEQUENCE:0
SUMMARY:Farewell to the Recios Luncheon
URL:https://christpca.net/event/farewell-to-the-recios-luncheon/
X-COST-TYPE:free
END:VEVENT
BEGIN:VEVENT
UID:ai1ec-16177@christpca.net
DTSTAMP:20260419T135133Z
CATEGORIES:
CONTACT:
DESCRIPTION:<p>VBS will run evenings Sunday 5:-8:30\, Monday-Thursday 5:30-
 8:30 PM</p>
DTSTART;TZID=Atlantic/Azores:20230625T170000
DTEND;TZID=Atlantic/Azores:20230628T203000
SEQUENCE:0
SUMMARY:VBS—Sea Quest
URL:https://christpca.net/event/vbs-sea-quest/
X-COST-TYPE:free
END:VEVENT
END:VCALENDAR
